BEGIN:VCALENDAR
VERSION:2.0
BEGIN:VEVENT
DTSTART;TZID=Europe/Stockholm:20220302T180000
DTEND;TZID=Europe/Stockholm:20220302T190000
DTSTAMP:20260420T175204
DESCRIPTION:
SEQUENCE:0
SUMMARY:Hemgrupp
UID:4828@lawebb.se
END:VEVENT
END:VCALENDAR