BEGIN:VCALENDAR
VERSION:2.0
BEGIN:VEVENT
DTSTART;TZID=Europe/Stockholm:20220309T190000
DTEND;TZID=Europe/Stockholm:20220309T200000
DTSTAMP:20260420T175806
DESCRIPTION:
SEQUENCE:0
SUMMARY:Bön
UID:8534@lawebb.se
END:VEVENT
END:VCALENDAR