BEGIN:VCALENDAR
VERSION:2.0
BEGIN:VEVENT
DTSTART;TZID=Europe/Stockholm:20220316T180000
DTEND;TZID=Europe/Stockholm:20220316T190000
DTSTAMP:20260420T175933
DESCRIPTION:
SEQUENCE:0
SUMMARY:Hemgrupp
UID:3229@lawebb.se
END:VEVENT
END:VCALENDAR