BEGIN:VCALENDAR
VERSION:2.0
BEGIN:VEVENT
DTSTART;TZID=Europe/Stockholm:20220317T180000
DTEND;TZID=Europe/Stockholm:20220317T190000
DTSTAMP:20260420T175326
DESCRIPTION:
SEQUENCE:0
SUMMARY:Hemgrupp
UID:8645@lawebb.se
END:VEVENT
END:VCALENDAR