BEGIN:VCALENDAR
VERSION:2.0
BEGIN:VEVENT
DTSTART;TZID=Europe/Stockholm:20220331T180000
DTEND;TZID=Europe/Stockholm:20220331T190000
DTSTAMP:20260420T180101
DESCRIPTION:
SEQUENCE:0
SUMMARY:Hemgrupp
UID:8929@lawebb.se
END:VEVENT
END:VCALENDAR