BEGIN:VCALENDAR
VERSION:2.0
BEGIN:VEVENT
DTSTART;TZID=Europe/Stockholm:20220406T190000
DTEND;TZID=Europe/Stockholm:20220406T200000
DTSTAMP:20260420T161354
DESCRIPTION:
SEQUENCE:0
SUMMARY:Bön
UID:6962@lawebb.se
END:VEVENT
END:VCALENDAR