BEGIN:VCALENDAR
VERSION:2.0
BEGIN:VEVENT
DTSTART;TZID=Europe/Stockholm:20220414T180000
DTEND;TZID=Europe/Stockholm:20220414T190000
DTSTAMP:20260420T161556
DESCRIPTION:
SEQUENCE:0
SUMMARY:Hemgrupp
UID:6978@lawebb.se
END:VEVENT
END:VCALENDAR